BEGIN:VCALENDAR
VERSION:2.0
BEGIN:VEVENT
DTSTART:20260505T210000Z
DTEND:20260506T010000Z
SUMMARY:Sales Strategy & Engagement Essentials
DESCRIPTION:We will cover, understanding the psychological needs of the buying client, and what is needed to meet those needs within the sales interaction process. Sales training expertise, anchored in the ‘real world’, & cover specific skills and techniques that will improve your sales processes and assist revenue growth.
LOCATION:Mahitahi Tasman, 18 Stafford Drive, Māpua, Tasman, 7005, New Zealand
END:VEVENT
END:VCALENDAR