BEGIN:VCALENDAR
VERSION:2.0
BEGIN:VEVENT
DTSTART:20260526T210000Z
DTEND:20260527T010000Z
SUMMARY:Employment Relation Skills for Small to Medium Businesses
DESCRIPTION:Gain the ability to communicate baseline expectations with new and existing team members. Managing poor performance and recognising high achievers.
LOCATION:Mahitahi Colab,  NMIT Campus A Block, 322 Hardy Street, Nelson, 7010, New Zealand
END:VEVENT
END:VCALENDAR