BEGIN:VCALENDAR
VERSION:2.0
BEGIN:VEVENT
DTSTART:20260617T000000Z
DTEND:20260617T010000Z
SUMMARY:Knowledge @ Noon - Wearing All the Hats
DESCRIPTION:Small business owners, start-ups and sole traders often juggle multiple hats. Managing constant decisions, and responding to competing demands has become day to day reality. While passion and purpose matter, what many people really need is clarity: where to focus, how to prioritise, and how to work in a way that’s sustainable.
LOCATION:Mahitahi Tasman, Unit 2,  18 Stafford Drive, Māpua, Tasman, 7005, New Zealand
END:VEVENT
END:VCALENDAR