BEGIN:VCALENDAR
VERSION:2.0
BEGIN:VEVENT
DTSTART:20260525T233000Z
DTEND:20260526T013000Z
SUMMARY:Tavendale + Partners - Legal over Lunch Series
DESCRIPTION:Navigating the New Wave of Employment Law Change - Join Tavendale + Partners for Legal over Lunch, where they will break down the latest employment law updates, upcoming changes, and what they mean for your business.
LOCATION:Mahitahi Colab, Brain Room, 322 Hardy Street, Nelson, Nelson, 7010
END:VEVENT
END:VCALENDAR