BEGIN:VCALENDAR
VERSION:2.0
BEGIN:VEVENT
DTSTART:20260609T000000Z
DTEND:20260609T013000Z
SUMMARY:Skills Highway - Improve literacy and numeracy, Improve productivity
DESCRIPTION:Curious how your business could boost productivity, strengthen health and safety, and improve compliance - with funding support?
LOCATION:Mahitahi Colab, Brain Room, 322 Hardy Street, Nelson, Nelson, 7010
END:VEVENT
END:VCALENDAR