BEGIN:VCALENDAR
VERSION:2.0
BEGIN:VEVENT
DTSTART:20260908T050000Z
DTEND:20260908T070000Z
SUMMARY:Young Chamber - The Early Advantage: Finance & Investing for Your Future
DESCRIPTION:Young Chamber connects young professionals across Nelson Tasman, offering opportunities to network, learn, and grow both personally and professionally.
These sessions are proudly brought to you in partnership with Spa World and Forsyth Barr.
LOCATION:Mahithi Colab, 322 Hardy Street, Nelson, Nelson, New Zealand
END:VEVENT
END:VCALENDAR